BEGIN:VCALENDAR
VERSION:2.0
PRODID:-//MinistryLink - ECPv6.15.5//NONSGML v1.0//EN
CALSCALE:GREGORIAN
METHOD:PUBLISH
X-ORIGINAL-URL:https://ministrylink.org
X-WR-CALDESC:Events for MinistryLink
REFRESH-INTERVAL;VALUE=DURATION:PT1H
X-Robots-Tag:noindex
X-PUBLISHED-TTL:PT1H
BEGIN:VTIMEZONE
TZID:America/New_York
BEGIN:DAYLIGHT
TZOFFSETFROM:-0500
TZOFFSETTO:-0400
TZNAME:EDT
DTSTART:20220313T070000
END:DAYLIGHT
BEGIN:STANDARD
TZOFFSETFROM:-0400
TZOFFSETTO:-0500
TZNAME:EST
DTSTART:20221106T060000
END:STANDARD
END:VTIMEZONE
BEGIN:VEVENT
DTSTART;TZID=America/New_York:20221217T100000
DTEND;TZID=America/New_York:20221217T120000
DTSTAMP:20260424T112457
CREATED:20221118T144206Z
LAST-MODIFIED:20221118T144558Z
UID:15920-1671271200-1671278400@ministrylink.org
SUMMARY:Christmas Lessons and Carols With Bethlehem
DESCRIPTION:The 16th annual Christmas Lessons and Carols simulcast live between the Philadelphia Episcopal Cathedral in the United States and the Christmas Lutheran Church in Bethlehem\, Palestine\, will take place on Saturday\, December 17\, 2022 at 10 a.m. EST and 5 p.m. Bethlehem time. \nHear familiar carols and readings in Arabic and English\, and a word of hope preached this year by Bishop Sani Azar of the Evangelical Lutheran Church in Jordan and the Holy Land. \nThe Philadelphia Episcopal Cathedral invites you to join in person for this free event. Registration details are forthcoming. \n\nYou can also participate virtually by watching it live on YouTube. (You can watch last year’s event on YouTube here.)\n\nOnline donations are encouraged and support the rich ministry of Episcopalians and Lutherans in Palestine.\nFor questions\, please contact the Rev. Canon Matthew Dayton-Welch\, Episcopal Diocese of Pennsylvania Canon for the Holy Land\, at rector@stalbansnewtownsquare.org.
URL:https://ministrylink.org/events/christmas-lessons-and-carols-with-bethlehem/
LOCATION:Philadelphia Cathedral\, 3717 Chestnut Street\, Philadelphia\, PA\, 19104\, United States
CATEGORIES:Worship
ATTACH;FMTTYPE=image/jpeg:https://ministrylink.org/wp-content/uploads/2022/11/LiveWithBethlehem-16-9.jpg
END:VEVENT
END:VCALENDAR