BEGIN:VCALENDAR
VERSION:2.0
PRODID:-//MinistryLink - ECPv6.15.5//NONSGML v1.0//EN
CALSCALE:GREGORIAN
METHOD:PUBLISH
X-WR-CALNAME:MinistryLink
X-ORIGINAL-URL:https://ministrylink.org
X-WR-CALDESC:Events for MinistryLink
REFRESH-INTERVAL;VALUE=DURATION:PT1H
X-Robots-Tag:noindex
X-PUBLISHED-TTL:PT1H
BEGIN:VTIMEZONE
TZID:America/New_York
BEGIN:DAYLIGHT
TZOFFSETFROM:-0500
TZOFFSETTO:-0400
TZNAME:EDT
DTSTART:20240310T070000
END:DAYLIGHT
BEGIN:STANDARD
TZOFFSETFROM:-0400
TZOFFSETTO:-0500
TZNAME:EST
DTSTART:20241103T060000
END:STANDARD
END:VTIMEZONE
BEGIN:VEVENT
DTSTART;TZID=America/New_York:20241015T200000
DTEND;TZID=America/New_York:20241015T210000
DTSTAMP:20260424T112358
CREATED:20240920T154612Z
LAST-MODIFIED:20240920T154612Z
UID:19723-1729022400-1729026000@ministrylink.org
SUMMARY:ELCA World Hunger World Food Day
DESCRIPTION:Save the date! Join ELCA World Hunger for a celebration of World Food Day and the 50th anniversary of ELCA World Hunger! \n“World Food Day: Celebrating 50 Years of ELCA World Hunger” will be a special online event on Tuesday\, Oct. 15\, at 8pm Eastern time\, and will be hosted by the Rev. Amy Current\, bishop of the Southeastern Iowa Synod\, and Imran Siddiqui\, vice president of the ELCA. Visit ELCA.org/WH50 to register for the event and learn more!
URL:https://ministrylink.org/events/elca-world-hunger-world-food-day/
LOCATION:Zoom meeting
CATEGORIES:ELCA
ATTACH;FMTTYPE=image/png:https://ministrylink.org/wp-content/uploads/2024/09/world-food-day-cropped.png
END:VEVENT
END:VCALENDAR