BEGIN:VCALENDAR
VERSION:2.0
PRODID:-//MinistryLink - ECPv6.15.5//NONSGML v1.0//EN
CALSCALE:GREGORIAN
METHOD:PUBLISH
X-WR-CALNAME:MinistryLink
X-ORIGINAL-URL:https://ministrylink.org
X-WR-CALDESC:Events for MinistryLink
REFRESH-INTERVAL;VALUE=DURATION:PT1H
X-Robots-Tag:noindex
X-PUBLISHED-TTL:PT1H
BEGIN:VTIMEZONE
TZID:America/New_York
BEGIN:DAYLIGHT
TZOFFSETFROM:-0500
TZOFFSETTO:-0400
TZNAME:EDT
DTSTART:20260308T070000
END:DAYLIGHT
BEGIN:STANDARD
TZOFFSETFROM:-0400
TZOFFSETTO:-0500
TZNAME:EST
DTSTART:20261101T060000
END:STANDARD
END:VTIMEZONE
BEGIN:VEVENT
DTSTART;VALUE=DATE:20260320
DTEND;VALUE=DATE:20260323
DTSTAMP:20260423T085222
CREATED:20250812T191010Z
LAST-MODIFIED:20251211T211945Z
UID:20900-1773964800-1774223999@ministrylink.org
SUMMARY:Tuscarora Lutheran Retreat
DESCRIPTION:Grades 6-12 \nTuscarora Lutheran Youth Retreat (formerly know as Harvey Cedars) is a weekend retreat for 6th – 12th grade youth and their leaders. This retreat fosters relationships between youth of different churches to unify the Lutheran churches and youth of the South Eastern Pennsylvania Synod of the ELCA. This retreat is also unique in the fact that it is run by the pastors and leaders of our youth groups so we depend on our adult leaders who attend with their youth to help make this retreat possible. We ask our adult leaders to be a part of small groups either through teaching\, assistant teaching\, or being an extra pair of hands in the classroom. \nDownload 2026 Flyer: Tuscarora Retreat Flyer 2026 \n  \n  \n 
URL:https://ministrylink.org/events/tuscarora-lutheran-retreat-2/
LOCATION:Tuscarora Inn & Conference Center\, 3300 River Rd.\, Mt. Bethel\, PA\, 18343\, United States
CATEGORIES:Youth Ministry
ATTACH;FMTTYPE=image/png:https://ministrylink.org/wp-content/uploads/2018/10/tuscarora_retreat.png
END:VEVENT
END:VCALENDAR