BEGIN:VCALENDAR
VERSION:2.0
PRODID:-//MinistryLink - ECPv6.15.5//NONSGML v1.0//EN
CALSCALE:GREGORIAN
METHOD:PUBLISH
X-WR-CALNAME:MinistryLink
X-ORIGINAL-URL:https://ministrylink.org
X-WR-CALDESC:Events for MinistryLink
REFRESH-INTERVAL;VALUE=DURATION:PT1H
X-Robots-Tag:noindex
X-PUBLISHED-TTL:PT1H
BEGIN:VTIMEZONE
TZID:America/New_York
BEGIN:DAYLIGHT
TZOFFSETFROM:-0500
TZOFFSETTO:-0400
TZNAME:EDT
DTSTART:20250309T070000
END:DAYLIGHT
BEGIN:STANDARD
TZOFFSETFROM:-0400
TZOFFSETTO:-0500
TZNAME:EST
DTSTART:20251102T060000
END:STANDARD
END:VTIMEZONE
BEGIN:VEVENT
DTSTART;TZID=America/New_York:20251012T140000
DTEND;TZID=America/New_York:20251012T170000
DTSTAMP:20260421T141746
CREATED:20250910T163455Z
LAST-MODIFIED:20250910T163540Z
UID:21001-1760277600-1760288400@ministrylink.org
SUMMARY:A Conversation About the Future of Youth Ministry
DESCRIPTION:You’re Invited \nA Conversation About the Future of Youth Ministry \nin SEPA Synod \nSunday October 12 @ 2:00 pm \nSt. John Lutheran\, Blue Bell \n1802 Skippack Pike\, Blue Bell (Rt. 73) \nAll those interested in discussing and planning for ministry needs for youth and young adults in the Synod are welcome to attend.
URL:https://ministrylink.org/events/a-conversation-about-the-future-of-youth-ministry/
LOCATION:St. John’s Lutheran Church\, Blue Bell\, 1802 W. Skippack Pike\, Blue Bell\, PA\, 19422\, United States
CATEGORIES:Synod Meetings,Youth Ministry
ATTACH;FMTTYPE=image/jpeg:https://ministrylink.org/wp-content/uploads/2020/01/New-SEPA-Youth-logo.jpg
END:VEVENT
END:VCALENDAR