BEGIN:VCALENDAR
VERSION:2.0
PRODID:-//MinistryLink - ECPv6.15.5//NONSGML v1.0//EN
CALSCALE:GREGORIAN
METHOD:PUBLISH
X-ORIGINAL-URL:https://ministrylink.org
X-WR-CALDESC:Events for MinistryLink
REFRESH-INTERVAL;VALUE=DURATION:PT1H
X-Robots-Tag:noindex
X-PUBLISHED-TTL:PT1H
BEGIN:VTIMEZONE
TZID:America/New_York
BEGIN:DAYLIGHT
TZOFFSETFROM:-0500
TZOFFSETTO:-0400
TZNAME:EDT
DTSTART:20240310T070000
END:DAYLIGHT
BEGIN:STANDARD
TZOFFSETFROM:-0400
TZOFFSETTO:-0500
TZNAME:EST
DTSTART:20241103T060000
END:STANDARD
END:VTIMEZONE
BEGIN:VEVENT
DTSTART;TZID=America/New_York:20241119T093000
DTEND;TZID=America/New_York:20241119T160000
DTSTAMP:20260424T164739
CREATED:20240528T170506Z
LAST-MODIFIED:20241017T171455Z
UID:19215-1732008600-1732032000@ministrylink.org
SUMMARY:Presbytery of Philadelphia Expanding the Pulpit Preaching Symposium
DESCRIPTION:KEYNOTE:  REV. DR. ANNA CARTER FLORENCE\n“Wisdom for Preachers from the Women in Jesus’ Genealogy” \nWORKSHOP PRESENTERS \n“LET THE CHURCH SAY AMEN: COLLABORATIVE PREACHING METHODOLOGIES” \nREV. DR. TIMOTHY ADKINS-JONES \nSenior Pastor\, Bethany Baptist Church\,\nNewark\, NJ\nAssistant Professor of Homiletics\,\nUnion Theological Seminary \n  \n  \n“HARNESSING A.I. FOR CHURCH EXCELLENCE” \nREV. JAMES LEE \nDirector of Communications\,\nUnited Methodists of\nGreater New Jersey \n“PROCLAIMING GENUINE ESCHATOLOGICAL HOPE IN A WEARY\, OVERWHELMED WORLD \nDR. KIMBERLY WAGNER \nPresbytery of Philadelphia’s Expanding\nthe Pulpit Preacher-in-Residence\nAssistant Professor of Preaching\,\nPrinceton Theological Seminary \nDownload a Flyer: Preaching Symposium Final Flyer\nRegister Here \nCost: $25
URL:https://ministrylink.org/events/presby-of-philadelphia-preaching-symposium/
LOCATION:United Lutheran Seminary – Philadelphia Campus\, 7301 Germantown Avenue\, Philadelphia\, 19119
CATEGORIES:Roster
ATTACH;FMTTYPE=image/png:https://ministrylink.org/wp-content/uploads/2024/05/Love-Revolution-featured-Image-1.png
END:VEVENT
END:VCALENDAR