BEGIN:VCALENDAR
VERSION:2.0
PRODID:-//MinistryLink - ECPv6.15.5//NONSGML v1.0//EN
CALSCALE:GREGORIAN
METHOD:PUBLISH
X-ORIGINAL-URL:https://ministrylink.org
X-WR-CALDESC:Events for MinistryLink
REFRESH-INTERVAL;VALUE=DURATION:PT1H
X-Robots-Tag:noindex
X-PUBLISHED-TTL:PT1H
BEGIN:VTIMEZONE
TZID:America/New_York
BEGIN:DAYLIGHT
TZOFFSETFROM:-0500
TZOFFSETTO:-0400
TZNAME:EDT
DTSTART:20240310T070000
END:DAYLIGHT
BEGIN:STANDARD
TZOFFSETFROM:-0400
TZOFFSETTO:-0500
TZNAME:EST
DTSTART:20241103T060000
END:STANDARD
END:VTIMEZONE
BEGIN:VEVENT
DTSTART;TZID=America/New_York:20240929T150000
DTEND;TZID=America/New_York:20240929T163000
DTSTAMP:20260420T115052
CREATED:20240904T173901Z
LAST-MODIFIED:20240920T153416Z
UID:19522-1727622000-1727627400@ministrylink.org
SUMMARY:Installation of the Rev. Ann Shade
DESCRIPTION:Please join us for this special occasion.\nInstallation of the Reverend Ann M. Shade\nSunday\, September 29\, 2024 at 3:00 pm\nSt. Michael’s Evangelical Lutheran Church\n25 E. Church Street\nSellersville\, PA 18960 \nDinner Reception to follow. For dinner planning purposes\, please RSVP via email st.michael.luth@verizon.net by Wednesday\, September 18. \nRostered leaders are invited to process. The color of the day green. \nInstallation Invitation: Rev Ann Shade Installation pdf
URL:https://ministrylink.org/events/installation-the-rev-ann-shade/
LOCATION:St. Michael Lutheran Church\, Sellersville\, 25 East Church Street\, Sellersville\, 18960\, United States
CATEGORIES:Ordinations and Installations,Roster
ATTACH;FMTTYPE=image/png:https://ministrylink.org/wp-content/uploads/2024/09/Installation-Ordination-Celebration.png
END:VEVENT
END:VCALENDAR