BEGIN:VCALENDAR
VERSION:2.0
PRODID:-//MinistryLink - ECPv6.15.5//NONSGML v1.0//EN
CALSCALE:GREGORIAN
METHOD:PUBLISH
X-ORIGINAL-URL:https://ministrylink.org
X-WR-CALDESC:Events for MinistryLink
REFRESH-INTERVAL;VALUE=DURATION:PT1H
X-Robots-Tag:noindex
X-PUBLISHED-TTL:PT1H
BEGIN:VTIMEZONE
TZID:America/New_York
BEGIN:DAYLIGHT
TZOFFSETFROM:-0500
TZOFFSETTO:-0400
TZNAME:EDT
DTSTART:20200308T070000
END:DAYLIGHT
BEGIN:STANDARD
TZOFFSETFROM:-0400
TZOFFSETTO:-0500
TZNAME:EST
DTSTART:20201101T060000
END:STANDARD
END:VTIMEZONE
BEGIN:VEVENT
DTSTART;TZID=America/New_York:20200609T190000
DTEND;TZID=America/New_York:20200609T201500
DTSTAMP:20260424T113122
CREATED:20200601T192043Z
LAST-MODIFIED:20200601T203919Z
UID:10791-1591729200-1591733700@ministrylink.org
SUMMARY:“America’s Original Sin” – An Online Book Discussion
DESCRIPTION:The SEPA Synod Anti-racism Team invites you to online conversations about race based on the book -“America’s Original Sin” by Jim Wallis. \nThese interactive discussions will take place on Tuesday evenings\, from 7pm-8:15pm on June 9th\, June 16th\, June 23th\, June 30th\, July 7th and July 14th. They will be led by members of the SEPA Synod Anti-racism Team. You may participate in one or all of the conversations. \nThe Team encourages you to read the book. An excerpt from “America’s Original Sin” can be found here: https://americasoriginalsin.com/read-an-excerpt-of-americas-original-sin/. \nTo join in these free interactive discussions please register by sending an e-mail to: Antiracism@sepa.org with your name and contact information. Space is limited\, so please register before Friday\, June 5th for the first session. A link to connect to the conversation\, along with further information will be sent to you prior to the discussion. The Team looks forward to your participation in this new venture.
URL:https://ministrylink.org/events/americas-original-sin-an-online-book-discussion/2020-06-09/
LOCATION:Online
CATEGORIES:Faith Formation
ATTACH;FMTTYPE=image/jpeg:https://ministrylink.org/wp-content/uploads/2020/06/Americas-original-sin.jpg
END:VEVENT
END:VCALENDAR